BEGIN:VCALENDAR
PRODID:-//kirchenweb.ch gmbh//veranstaltungsausgabe v2.0//DE
VERSION:2.0
METHOD:PUBLISH
BEGIN:VEVENT
DTSTART:20260623T151500Z
DTEND:20260623T171500Z
LOCATION:Franziskushaus\, Quartierweg 1\, 3303 Jegenstorf
TRANSP:OPAQUE
SEQUENCE:0
UID:56021-veranstaltung@kgju.ch
DTSTAMP:20251224T140009Z
DESCRIPTION:Kontakt: Pfarrer Kurt Bienz\n\nWeitere Infos:
  https://www.kgju.ch/veranstaltung/56021
SUMMARY:jegi-hilft Schreibdienst
PRIORITY:5
X-MICROSOFT-CDO-IMPORTANCE:1
CLASS:PUBLIC
END:VEVENT
END:VCALENDAR
