BEGIN:VCALENDAR
PRODID:-//kirchenweb.ch gmbh//veranstaltungsausgabe v2.0//DE
VERSION:2.0
METHOD:PUBLISH
BEGIN:VEVENT
DTSTART:20260604T170000Z
DTEND:20260604T183000Z
LOCATION:Kirchgemeindehaus Jegenstorf\, \,
TRANSP:OPAQUE
SEQUENCE:0
UID:56370-veranstaltung@kgju.ch
DTSTAMP:20260120T133723Z
DESCRIPTION:Wurzeln stärken - Wege wagen \nHeutiges Thema: Was uns
  nährt: Kraft im Alltag\nInkl. Blinddegustation mit Simon Riem\n\nBeim
  Vätertreffen kommen Männer zusammen\, um sich offen über Themen rund
  ums Vatersein auszutauschen. Ohne viel Drumherum\, ehrlich und auf
  Augenhöhe. Es gibt Snacks\, Getränke und gute Gespräche in entspannter
  Atmosphäre. Jeder bringt seine Erfahrungen ein und nimmt neue
  Perspektiven mit. Wer Lust auf Austausch unter Vätern hat\, ist hier
  genau richtig.\n\nKontakt: tiana.voehringer@kirche-jegenstorf.ch\n
 \nWeitere Infos: https://www.kgju.ch/veranstaltung/56370
SUMMARY:Vätertreffen
PRIORITY:5
X-MICROSOFT-CDO-IMPORTANCE:1
CLASS:PUBLIC
END:VEVENT
END:VCALENDAR
